BEGIN:VCALENDAR
VERSION:2.0
PRODID:-//Village of Waterville - ECPv6.15.20//NONSGML v1.0//EN
CALSCALE:GREGORIAN
METHOD:PUBLISH
X-ORIGINAL-URL:https://villageofwaterville.org
X-WR-CALDESC:Events for Village of Waterville
REFRESH-INTERVAL;VALUE=DURATION:PT1H
X-Robots-Tag:noindex
X-PUBLISHED-TTL:PT1H
BEGIN:VTIMEZONE
TZID:UTC
BEGIN:STANDARD
TZOFFSETFROM:+0000
TZOFFSETTO:+0000
TZNAME:UTC
DTSTART:20230101T000000
END:STANDARD
END:VTIMEZONE
BEGIN:VEVENT
DTSTART;VALUE=DATE:20240430
DTEND;VALUE=DATE:20240501
DTSTAMP:20260420T085005
CREATED:20240213T161308Z
LAST-MODIFIED:20240213T161308Z
UID:10000873-1714435200-1714521599@villageofwaterville.org
SUMMARY:Utility Bills Due by 4pm
DESCRIPTION:
URL:https://villageofwaterville.gov/event/utility-bills-due-by-4pm/
LOCATION:Village Hall\, 122 Barton Ave\, Waterville\, NY\, 13480\, United States
END:VEVENT
END:VCALENDAR