BEGIN:VCALENDAR
VERSION:2.0
PRODID:-//Village of Waterville - ECPv6.15.20//NONSGML v1.0//EN
CALSCALE:GREGORIAN
METHOD:PUBLISH
X-ORIGINAL-URL:https://villageofwaterville.org
X-WR-CALDESC:Events for Village of Waterville
REFRESH-INTERVAL;VALUE=DURATION:PT1H
X-Robots-Tag:noindex
X-PUBLISHED-TTL:PT1H
BEGIN:VTIMEZONE
TZID:UTC
BEGIN:STANDARD
TZOFFSETFROM:+0000
TZOFFSETTO:+0000
TZNAME:UTC
DTSTART:20230101T000000
END:STANDARD
END:VTIMEZONE
BEGIN:VEVENT
DTSTART;VALUE=DATE:20240418
DTEND;VALUE=DATE:20240419
DTSTAMP:20260421T034539
CREATED:20240213T161109Z
LAST-MODIFIED:20240213T161109Z
UID:10000869-1713398400-1713484799@villageofwaterville.org
SUMMARY:Garbage
DESCRIPTION:
URL:https://villageofwaterville.gov/event/garbage-26/
LOCATION:NY
END:VEVENT
BEGIN:VEVENT
DTSTART;TZID=UTC:20240418T163000
DTEND;TZID=UTC:20240418T173000
DTSTAMP:20260421T034539
CREATED:20240213T155951Z
LAST-MODIFIED:20240213T155951Z
UID:10000857-1713457800-1713461400@villageofwaterville.org
SUMMARY:Oriskany Creek Watershed Commission Meeting - Waterville
DESCRIPTION:
URL:https://villageofwaterville.gov/event/oriskany-creek-watershed-commission-meeting-waterville/
LOCATION:Village Hall\, 122 Barton Ave\, Waterville\, NY\, 13480\, United States
END:VEVENT
END:VCALENDAR