BEGIN:VCALENDAR
VERSION:2.0
PRODID:-//Village of Waterville - ECPv6.15.20//NONSGML v1.0//EN
CALSCALE:GREGORIAN
METHOD:PUBLISH
X-WR-CALNAME:Village of Waterville
X-ORIGINAL-URL:https://villageofwaterville.org
X-WR-CALDESC:Events for Village of Waterville
REFRESH-INTERVAL;VALUE=DURATION:PT1H
X-Robots-Tag:noindex
X-PUBLISHED-TTL:PT1H
BEGIN:VTIMEZONE
TZID:UTC
BEGIN:STANDARD
TZOFFSETFROM:+0000
TZOFFSETTO:+0000
TZNAME:UTC
DTSTART:20230101T000000
END:STANDARD
END:VTIMEZONE
BEGIN:VEVENT
DTSTART;VALUE=DATE:20240321
DTEND;VALUE=DATE:20240322
DTSTAMP:20260422T200004
CREATED:20240111T170855Z
LAST-MODIFIED:20240111T170855Z
UID:10000850-1710979200-1711065599@villageofwaterville.org
SUMMARY:Garbage
DESCRIPTION:
URL:https://villageofwaterville.gov/event/garbage-18/
LOCATION:NY
END:VEVENT
BEGIN:VEVENT
DTSTART;TZID=UTC:20240321T163000
DTEND;TZID=UTC:20240321T173000
DTSTAMP:20260422T200004
CREATED:20240213T155732Z
LAST-MODIFIED:20240213T155732Z
UID:10000856-1711038600-1711042200@villageofwaterville.org
SUMMARY:Oriskany Creek Watershed Commission Meeting - Westmoreland
DESCRIPTION:
URL:https://villageofwaterville.gov/event/oriskany-creek-watershed-commission-meeting-westmoreland/
LOCATION:Westmoreland Town Hall
END:VEVENT
END:VCALENDAR