BEGIN:VCALENDAR
VERSION:2.0
PRODID:-//Village of Waterville - ECPv6.15.20//NONSGML v1.0//EN
CALSCALE:GREGORIAN
METHOD:PUBLISH
X-ORIGINAL-URL:https://villageofwaterville.org
X-WR-CALDESC:Events for Village of Waterville
REFRESH-INTERVAL;VALUE=DURATION:PT1H
X-Robots-Tag:noindex
X-PUBLISHED-TTL:PT1H
BEGIN:VTIMEZONE
TZID:UTC
BEGIN:STANDARD
TZOFFSETFROM:+0000
TZOFFSETTO:+0000
TZNAME:UTC
DTSTART:20230101T000000
END:STANDARD
END:VTIMEZONE
BEGIN:VEVENT
DTSTART;VALUE=DATE:20240311
DTEND;VALUE=DATE:20240312
DTSTAMP:20260423T105510
CREATED:20240111T170314Z
LAST-MODIFIED:20240111T170314Z
UID:10000842-1710115200-1710201599@villageofwaterville.org
SUMMARY:Garbage
DESCRIPTION:
URL:https://villageofwaterville.gov/event/garbage-15/
LOCATION:NY
CATEGORIES:DPW
END:VEVENT
BEGIN:VEVENT
DTSTART;TZID=UTC:20240311T190000
DTEND;TZID=UTC:20240311T200000
DTSTAMP:20260423T105510
CREATED:20240111T170408Z
LAST-MODIFIED:20240111T170408Z
UID:10000843-1710183600-1710187200@villageofwaterville.org
SUMMARY:Village Board Meeting
DESCRIPTION:
URL:https://villageofwaterville.gov/event/village-board-meeting-4/
LOCATION:Village Hall\, 122 Barton Ave\, Waterville\, NY\, 13480\, United States
CATEGORIES:Village Board
END:VEVENT
END:VCALENDAR